BEGIN:VCALENDAR
PRODID:-//Google Inc//Google Calendar 70.9054//EN
VERSION:2.0
CALSCALE:GREGORIAN
METHOD:PUBLISH
X-WR-CALNAME:A3 - SIV course / Maniobras
X-WR-TIMEZONE:America/Mexico_City
BEGIN:VEVENT
DTSTART;VALUE=DATE:20160926
DTEND;VALUE=DATE:20160930
DTSTAMP:20260425T132304Z
UID:o5hccschqn7evp4kpf02jkc064@google.com
CREATED:20160603T071741Z
LAST-MODIFIED:20160604T013427Z
SEQUENCE:0
STATUS:CONFIRMED
SUMMARY:Rep Dom
TRANSP:TRANSPARENT
END:VEVENT
BEGIN:VEVENT
DTSTART;VALUE=DATE:20241111
DTEND;VALUE=DATE:20241117
DTSTAMP:20260425T132304Z
UID:70tbmpl71c1e50ldmm68mn26dl@google.com
CREATED:20240531T045614Z
LAST-MODIFIED:20240531T045614Z
SEQUENCE:0
STATUS:CONFIRMED
SUMMARY:SIV Course Yelapa
TRANSP:TRANSPARENT
END:VEVENT
BEGIN:VEVENT
DTSTART;VALUE=DATE:20230515
DTEND;VALUE=DATE:20230521
DTSTAMP:20260425T132304Z
UID:001mgemu5f7ab3d2t1tg4g4ifp@google.com
CREATED:20221227T224425Z
LAST-MODIFIED:20260330T120128Z
SEQUENCE:0
STATUS:CONFIRMED
SUMMARY:SIV Course - FULL
TRANSP:TRANSPARENT
END:VEVENT
BEGIN:VEVENT
DTSTART;VALUE=DATE:20240205
DTEND;VALUE=DATE:20240211
DTSTAMP:20260425T132304Z
UID:5rgpqu44fgkdb6jktv9mfiiji6@google.com
CREATED:20230920T000418Z
LAST-MODIFIED:20260330T120128Z
SEQUENCE:0
STATUS:CONFIRMED
SUMMARY:SIV Course
TRANSP:TRANSPARENT
END:VEVENT
BEGIN:VEVENT
DTSTART;VALUE=DATE:20230424
DTEND;VALUE=DATE:20230430
DTSTAMP:20260425T132304Z
UID:2afm2sl0v11rfg2h7jasbuji48@google.com
CREATED:20221214T025154Z
LAST-MODIFIED:20230219T172044Z
SEQUENCE:1
STATUS:CONFIRMED
SUMMARY:SIV Course OPEN - Closed Full
TRANSP:TRANSPARENT
END:VEVENT
BEGIN:VEVENT
DTSTART;VALUE=DATE:20220515
DTEND;VALUE=DATE:20220522
DTSTAMP:20260425T132304Z
UID:07tdrcvcijt5cn1t4ilc5dmi9b@google.com
CREATED:20220214T002713Z
LAST-MODIFIED:20220214T002713Z
LOCATION:Yelapa\, 48422 Yelapa\, Jalisco\, Mexico
SEQUENCE:0
STATUS:CONFIRMED
SUMMARY:SIV Course Yelapa
TRANSP:TRANSPARENT
END:VEVENT
BEGIN:VEVENT
DTSTART;VALUE=DATE:20190227
DTEND;VALUE=DATE:20190304
DTSTAMP:20260425T132304Z
UID:6t14jh4091cfdjq8v600m2r0g9@google.com
CREATED:20181222T134046Z
LAST-MODIFIED:20221209T051746Z
SEQUENCE:0
STATUS:CONFIRMED
SUMMARY:SIV Course - No AVALIABILITY
TRANSP:TRANSPARENT
END:VEVENT
BEGIN:VEVENT
DTSTART;VALUE=DATE:20160225
DTEND;VALUE=DATE:20160229
DTSTAMP:20260425T132304Z
UID:18831ko27204h215elbpom1mpk@google.com
CREATED:20150925T032323Z
DESCRIPTION:Curso de Maniobras en Yelapa.\nwww.aprendeavolar.com.mx\n\n
LAST-MODIFIED:20221209T051757Z
SEQUENCE:2
STATUS:CONFIRMED
SUMMARY:SIV Yelapa
TRANSP:OPAQUE
ATTACH;FILENAME=CURSO DE MANIOBRAS 25-28.02.2016-Yelapa.pdf:https://drive.g
 oogle.com/a/aprendeavolar.com.mx/file/d/0ByKL79HLKbWcdzNJZUc4UDlWOVU/view?u
 sp=drive_web
END:VEVENT
BEGIN:VEVENT
DTSTART;VALUE=DATE:20191030
DTEND;VALUE=DATE:20191104
DTSTAMP:20260425T132304Z
UID:5flvjkj7vdqovs231l5mpsa3vk@google.com
CREATED:20190416T201326Z
LAST-MODIFIED:20190920T213001Z
SEQUENCE:0
STATUS:CONFIRMED
SUMMARY:SIV Marko Hrgetic
TRANSP:TRANSPARENT
END:VEVENT
BEGIN:VEVENT
DTSTART;VALUE=DATE:20180607
DTEND;VALUE=DATE:20180611
DTSTAMP:20260425T132304Z
UID:54stnbm531lrl2d79k39r35itd@google.com
X-GOOGLE-CONFERENCE:https://hangouts.google.com/hangouts/_/calendar/ajA5bmV
 tbjI3dnJmazVybmU5MzYxYmJqZHNAZ3JvdXAuY2FsZW5kYXIuZ29vZ2xlLmNvbQ.54stnbm531l
 rl2d79k39r35itd
CREATED:20180412T001656Z
DESCRIPTION:Join with Google Hangouts: https://hangouts.google.com/hangouts
 /_/calendar/ajA5bmVtbjI3dnJmazVybmU5MzYxYmJqZHNAZ3JvdXAuY2FsZW5kYXIuZ29vZ2x
 lLmNvbQ.54stnbm531lrl2d79k39r35itd?hs=121
LAST-MODIFIED:20180412T001656Z
SEQUENCE:0
STATUS:CONFIRMED
SUMMARY:Curso de maniobras
TRANSP:TRANSPARENT
END:VEVENT
BEGIN:VEVENT
DTSTART;VALUE=DATE:20261219
DTEND;VALUE=DATE:20261224
DTSTAMP:20260425T132304Z
UID:4nr9npp3k9gmk6fobh26ldotio@google.com
CREATED:20260406T201533Z
LAST-MODIFIED:20260406T201546Z
SEQUENCE:1
STATUS:CONFIRMED
SUMMARY:SIV Clinics Valle de bravo
TRANSP:TRANSPARENT
END:VEVENT
BEGIN:VEVENT
DTSTART;VALUE=DATE:20180531
DTEND;VALUE=DATE:20180604
DTSTAMP:20260425T132304Z
UID:1pju66ff2rhjip4qbpjog4nc30@google.com
X-GOOGLE-CONFERENCE:https://hangouts.google.com/hangouts/_/calendar/ajA5bmV
 tbjI3dnJmazVybmU5MzYxYmJqZHNAZ3JvdXAuY2FsZW5kYXIuZ29vZ2xlLmNvbQ.1pju66ff2rh
 jip4qbpjog4nc30
CREATED:20180410T231843Z
DESCRIPTION:Join with Google Hangouts: https://hangouts.google.com/hangouts
 /_/calendar/ajA5bmVtbjI3dnJmazVybmU5MzYxYmJqZHNAZ3JvdXAuY2FsZW5kYXIuZ29vZ2x
 lLmNvbQ.1pju66ff2rhjip4qbpjog4nc30?hs=121
LAST-MODIFIED:20180410T231843Z
SEQUENCE:0
STATUS:CONFIRMED
SUMMARY:Curso de maniobras 
TRANSP:TRANSPARENT
END:VEVENT
BEGIN:VEVENT
DTSTART;VALUE=DATE:20200408
DTEND;VALUE=DATE:20200413
DTSTAMP:20260425T132304Z
UID:1c9kcesvm1t8o3ajkh4il1ifrg@google.com
CREATED:20200116T035005Z
LAST-MODIFIED:20200317T233413Z
SEQUENCE:1
STATUS:CONFIRMED
SUMMARY:SIV Course Yelapa CANCELED due to COVID-19
TRANSP:TRANSPARENT
END:VEVENT
BEGIN:VEVENT
DTSTART;VALUE=DATE:20230417
DTEND;VALUE=DATE:20230423
DTSTAMP:20260425T132304Z
UID:0f97mld2vtts8utjtj7dqd1ght@google.com
CREATED:20221108T230829Z
LAST-MODIFIED:20221118T232115Z
SEQUENCE:0
STATUS:CONFIRMED
SUMMARY:SIV Course - Closed FULL
TRANSP:TRANSPARENT
END:VEVENT
BEGIN:VEVENT
DTSTART;VALUE=DATE:20170330
DTEND;VALUE=DATE:20170403
DTSTAMP:20260425T132304Z
UID:s1lsdqv77iqha04ppims34c834@google.com
X-GOOGLE-CONFERENCE:https://plus.google.com/hangouts/_/calendar/ajA5bmVtbjI
 3dnJmazVybmU5MzYxYmJqZHNAZ3JvdXAuY2FsZW5kYXIuZ29vZ2xlLmNvbQ.s1lsdqv77iqha04
 ppims34c834
CREATED:20170222T213631Z
DESCRIPTION:Join with Google Hangouts: https://plus.google.com/hangouts/_/c
 alendar/ajA5bmVtbjI3dnJmazVybmU5MzYxYmJqZHNAZ3JvdXAuY2FsZW5kYXIuZ29vZ2xlLmN
 vbQ.s1lsdqv77iqha04ppims34c834?hs=121
LAST-MODIFIED:20170222T213631Z
SEQUENCE:0
STATUS:CONFIRMED
SUMMARY:SIV Yelapa
TRANSP:TRANSPARENT
END:VEVENT
BEGIN:VEVENT
DTSTART;VALUE=DATE:20210414
DTEND;VALUE=DATE:20210419
DTSTAMP:20260425T132304Z
UID:66q2vn6mqqbfechoglubh44oqo@google.com
CREATED:20210225T040413Z
LAST-MODIFIED:20210301T021107Z
SEQUENCE:1
STATUS:CONFIRMED
SUMMARY:Curso de maniobras SIV
TRANSP:TRANSPARENT
END:VEVENT
BEGIN:VEVENT
DTSTART;VALUE=DATE:20230320
DTEND;VALUE=DATE:20230326
DTSTAMP:20260425T132304Z
UID:4lg5gfo2rg9ebicts2imtuucr8@google.com
CREATED:20220908T065101Z
LAST-MODIFIED:20230219T172056Z
SEQUENCE:0
STATUS:CONFIRMED
SUMMARY:SIV Course - One spot left
TRANSP:TRANSPARENT
END:VEVENT
BEGIN:VEVENT
DTSTART;VALUE=DATE:20240311
DTEND;VALUE=DATE:20240317
DTSTAMP:20260425T132304Z
UID:6opm8cj3cgqj0b9jc9h64b9k6cp6cb9o64qjib9k6opj4pj6c5j3ge356c@google.com
CREATED:20231105T111357Z
LAST-MODIFIED:20231105T111357Z
SEQUENCE:0
STATUS:CONFIRMED
SUMMARY:SIV Yelapa
TRANSP:TRANSPARENT
END:VEVENT
BEGIN:VEVENT
DTSTART;VALUE=DATE:20161123
DTEND;VALUE=DATE:20161128
DTSTAMP:20260425T132304Z
UID:jcahb7r7ija143nndjs18he55g@google.com
CREATED:20160603T070446Z
LAST-MODIFIED:20221209T051751Z
SEQUENCE:0
STATUS:CONFIRMED
SUMMARY:SIV Yelapa
TRANSP:TRANSPARENT
END:VEVENT
BEGIN:VEVENT
DTSTART;VALUE=DATE:20230213
DTEND;VALUE=DATE:20230219
DTSTAMP:20260425T132304Z
UID:2h7kb2307f21tpd6ssv35r16im@google.com
CREATED:20220817T091216Z
LAST-MODIFIED:20220916T181648Z
SEQUENCE:0
STATUS:CONFIRMED
SUMMARY:SIV Course - FULL
TRANSP:TRANSPARENT
END:VEVENT
BEGIN:VEVENT
DTSTART;VALUE=DATE:20251126
DTEND;VALUE=DATE:20251202
DTSTAMP:20260425T132304Z
UID:4fihn0qlg3o4tapjrgd21bjdjb@google.com
CREATED:20250804T172415Z
LAST-MODIFIED:20250804T172415Z
SEQUENCE:0
STATUS:CONFIRMED
SUMMARY:SIV Yelapa OPEN to register
TRANSP:TRANSPARENT
END:VEVENT
BEGIN:VEVENT
DTSTART;VALUE=DATE:20260721
DTEND;VALUE=DATE:20260727
DTSTAMP:20260425T132304Z
UID:14a920nivlvh2ars9gmvvr4hal@google.com
CREATED:20260406T200641Z
LAST-MODIFIED:20260406T200641Z
SEQUENCE:0
STATUS:CONFIRMED
SUMMARY:SIV Clinics Valle de Bravo
TRANSP:TRANSPARENT
END:VEVENT
BEGIN:VEVENT
DTSTART;VALUE=DATE:20231113
DTEND;VALUE=DATE:20231119
DTSTAMP:20260425T132304Z
UID:6p8vk0cftodbs4q3onokbimh34@google.com
CREATED:20230523T171147Z
LAST-MODIFIED:20230523T171204Z
SEQUENCE:0
STATUS:CONFIRMED
SUMMARY:SIV Course - Open
TRANSP:TRANSPARENT
END:VEVENT
BEGIN:VEVENT
DTSTART;VALUE=DATE:20250512
DTEND;VALUE=DATE:20250518
DTSTAMP:20260425T132304Z
UID:28t8u8fobqvhbrsd3embuslqsf@google.com
CREATED:20240828T011711Z
LAST-MODIFIED:20240828T011711Z
SEQUENCE:0
STATUS:CONFIRMED
SUMMARY:SIV
TRANSP:TRANSPARENT
END:VEVENT
BEGIN:VEVENT
DTSTART;VALUE=DATE:20260210
DTEND;VALUE=DATE:20260216
DTSTAMP:20260425T132304Z
UID:1mk9ejh11c7gf16pluo0r5at8h@google.com
CREATED:20251127T022540Z
LAST-MODIFIED:20251127T022554Z
SEQUENCE:0
STATUS:CONFIRMED
SUMMARY:SIV Course Yelapa Group B - TBC
TRANSP:TRANSPARENT
END:VEVENT
BEGIN:VEVENT
DTSTART;VALUE=DATE:20230206
DTEND;VALUE=DATE:20230212
DTSTAMP:20260425T132304Z
UID:0t5t6n3bjmuqc5vnu9mfa0gfnc@google.com
CREATED:20220816T173200Z
LAST-MODIFIED:20220916T181641Z
SEQUENCE:0
STATUS:CONFIRMED
SUMMARY:SIV Course - Yelapa FULL
TRANSP:TRANSPARENT
END:VEVENT
BEGIN:VEVENT
DTSTART;VALUE=DATE:20170420
DTEND;VALUE=DATE:20170426
DTSTAMP:20260425T132304Z
UID:c6iplsfhvuen6j1h8qa4ds2b88@google.com
X-GOOGLE-CONFERENCE:https://plus.google.com/hangouts/_/calendar/ajA5bmVtbjI
 3dnJmazVybmU5MzYxYmJqZHNAZ3JvdXAuY2FsZW5kYXIuZ29vZ2xlLmNvbQ.c6iplsfhvuen6j1
 h8qa4ds2b88
CREATED:20161130T014241Z
DESCRIPTION:Join with Google Hangouts: https://plus.google.com/hangouts/_/c
 alendar/ajA5bmVtbjI3dnJmazVybmU5MzYxYmJqZHNAZ3JvdXAuY2FsZW5kYXIuZ29vZ2xlLmN
 vbQ.c6iplsfhvuen6j1h8qa4ds2b88?hs=121
LAST-MODIFIED:20170302T042211Z
SEQUENCE:2
STATUS:CONFIRMED
SUMMARY:SIV Clinic - English speaking
TRANSP:TRANSPARENT
END:VEVENT
BEGIN:VEVENT
DTSTART;VALUE=DATE:20260626
DTEND;VALUE=DATE:20260702
DTSTAMP:20260425T132304Z
UID:3fnh1ik7ssjk575dbq6ufvh1nm@google.com
CREATED:20260406T200156Z
LAST-MODIFIED:20260406T200259Z
SEQUENCE:1
STATUS:CONFIRMED
SUMMARY:SIV Clinics - Valle de Bravo
TRANSP:TRANSPARENT
END:VEVENT
BEGIN:VEVENT
DTSTART;VALUE=DATE:20171117
DTEND;VALUE=DATE:20171121
DTSTAMP:20260425T132304Z
UID:mn895skpd2eqn77ulqavr1gek4@google.com
X-GOOGLE-CONFERENCE:https://plus.google.com/hangouts/_/calendar/ajA5bmVtbjI
 3dnJmazVybmU5MzYxYmJqZHNAZ3JvdXAuY2FsZW5kYXIuZ29vZ2xlLmNvbQ.mn895skpd2eqn77
 ulqavr1gek4
CREATED:20170419T031236Z
DESCRIPTION:Join with Google Hangouts: https://plus.google.com/hangouts/_/c
 alendar/ajA5bmVtbjI3dnJmazVybmU5MzYxYmJqZHNAZ3JvdXAuY2FsZW5kYXIuZ29vZ2xlLmN
 vbQ.mn895skpd2eqn77ulqavr1gek4?hs=121
LAST-MODIFIED:20221209T051755Z
SEQUENCE:0
STATUS:CONFIRMED
SUMMARY:Yelapa SIV - Esp
TRANSP:TRANSPARENT
END:VEVENT
BEGIN:VEVENT
DTSTART;VALUE=DATE:20181113
DTEND;VALUE=DATE:20181117
DTSTAMP:20260425T132304Z
UID:5usqb8q8ocf4l0k22d6vl73a89@google.com
CREATED:20180929T030705Z
LAST-MODIFIED:20181015T234156Z
SEQUENCE:0
STATUS:CONFIRMED
SUMMARY:SIV Course - Free
TRANSP:TRANSPARENT
END:VEVENT
BEGIN:VEVENT
DTSTART;VALUE=DATE:20180404
DTEND;VALUE=DATE:20180409
DTSTAMP:20260425T132304Z
UID:6cke4ma13i10cdvnrr3fvsa1b3@google.com
X-GOOGLE-CONFERENCE:https://plus.google.com/hangouts/_/calendar/ajA5bmVtbjI
 3dnJmazVybmU5MzYxYmJqZHNAZ3JvdXAuY2FsZW5kYXIuZ29vZ2xlLmNvbQ.6cke4ma13i10cdv
 nrr3fvsa1b3
CREATED:20170922T161519Z
DESCRIPTION:Join with Google Hangouts: https://plus.google.com/hangouts/_/c
 alendar/ajA5bmVtbjI3dnJmazVybmU5MzYxYmJqZHNAZ3JvdXAuY2FsZW5kYXIuZ29vZ2xlLmN
 vbQ.6cke4ma13i10cdvnrr3fvsa1b3?hs=121
LAST-MODIFIED:20170922T161519Z
SEQUENCE:0
STATUS:CONFIRMED
SUMMARY:SIV Course ENG/ESP - Yelapa
TRANSP:TRANSPARENT
END:VEVENT
BEGIN:VEVENT
DTSTART;VALUE=DATE:20251203
DTEND;VALUE=DATE:20251209
DTSTAMP:20260425T132304Z
UID:59tir7fhusf8aqkjnboplrgtnn@google.com
CREATED:20250724T072741Z
LAST-MODIFIED:20260330T120128Z
SEQUENCE:0
STATUS:CONFIRMED
SUMMARY:Private SIV group
TRANSP:TRANSPARENT
END:VEVENT
BEGIN:VEVENT
DTSTART;VALUE=DATE:20190328
DTEND;VALUE=DATE:20190401
DTSTAMP:20260425T132304Z
UID:2abek7lp7usof3h4tukb3uflfh@google.com
CREATED:20181222T133950Z
LAST-MODIFIED:20221209T051750Z
SEQUENCE:0
STATUS:CONFIRMED
SUMMARY:SIV Course - NO places
TRANSP:TRANSPARENT
END:VEVENT
BEGIN:VEVENT
DTSTART;VALUE=DATE:20250505
DTEND;VALUE=DATE:20250511
DTSTAMP:20260425T132304Z
UID:39ing3q1oed8pm71rmr06im5ej@google.com
CREATED:20240828T011704Z
LAST-MODIFIED:20240828T011704Z
SEQUENCE:0
STATUS:CONFIRMED
SUMMARY:SIV
TRANSP:TRANSPARENT
END:VEVENT
BEGIN:VEVENT
DTSTART;VALUE=DATE:20160820
DTEND;VALUE=DATE:20160822
DTSTAMP:20260425T132304Z
UID:0ni86nq7ogeilek7h56jddcim0@google.com
CREATED:20160603T072340Z
LAST-MODIFIED:20160616T181213Z
SEQUENCE:3
STATUS:CONFIRMED
SUMMARY:SIV tecaj Tribalj Croatia
TRANSP:TRANSPARENT
END:VEVENT
BEGIN:VEVENT
DTSTART;VALUE=DATE:20171123
DTEND;VALUE=DATE:20171127
DTSTAMP:20260425T132304Z
UID:kmksi44n9j6olq62o4j9cb721c@google.com
X-GOOGLE-CONFERENCE:https://plus.google.com/hangouts/_/calendar/ajA5bmVtbjI
 3dnJmazVybmU5MzYxYmJqZHNAZ3JvdXAuY2FsZW5kYXIuZ29vZ2xlLmNvbQ.kmksi44n9j6olq6
 2o4j9cb721c
CREATED:20170426T042540Z
DESCRIPTION:Join with Google Hangouts: https://plus.google.com/hangouts/_/c
 alendar/ajA5bmVtbjI3dnJmazVybmU5MzYxYmJqZHNAZ3JvdXAuY2FsZW5kYXIuZ29vZ2xlLmN
 vbQ.kmksi44n9j6olq62o4j9cb721c?hs=121
LAST-MODIFIED:20170426T042540Z
SEQUENCE:0
STATUS:CONFIRMED
SUMMARY:Yelapa - ENG
TRANSP:TRANSPARENT
END:VEVENT
BEGIN:VEVENT
DTSTART;VALUE=DATE:20241104
DTEND;VALUE=DATE:20241110
DTSTAMP:20260425T132304Z
UID:294r0i3fm6v6e7dn211ieoh51u@google.com
CREATED:20240531T045551Z
LAST-MODIFIED:20240531T045551Z
SEQUENCE:0
STATUS:CONFIRMED
SUMMARY:SIV Course Yelapa
TRANSP:TRANSPARENT
END:VEVENT
BEGIN:VEVENT
DTSTART;VALUE=DATE:20221121
DTEND;VALUE=DATE:20221127
DTSTAMP:20260425T132304Z
UID:0d0tfrg4f2kp093163c7qtpjvv@google.com
CREATED:20220525T140452Z
LAST-MODIFIED:20220916T181623Z
SEQUENCE:0
STATUS:CONFIRMED
SUMMARY:SIV Course Yelapa - FULL
TRANSP:TRANSPARENT
END:VEVENT
BEGIN:VEVENT
DTSTART;VALUE=DATE:20261214
DTEND;VALUE=DATE:20261219
DTSTAMP:20260425T132304Z
UID:3prfp3e13afpq9l9ndnvk5ll45@google.com
CREATED:20260406T201215Z
LAST-MODIFIED:20260406T201216Z
SEQUENCE:0
STATUS:CONFIRMED
SUMMARY:SIV Clinics
TRANSP:TRANSPARENT
END:VEVENT
BEGIN:VEVENT
DTSTART;VALUE=DATE:20191106
DTEND;VALUE=DATE:20191111
DTSTAMP:20260425T132304Z
UID:6ep82ig7jidjldb73hvvb6a9f9@google.com
CREATED:20190416T201343Z
LAST-MODIFIED:20190920T213010Z
SEQUENCE:0
STATUS:CONFIRMED
SUMMARY:SIV Marko Hrgetic
TRANSP:TRANSPARENT
END:VEVENT
BEGIN:VEVENT
DTSTART;VALUE=DATE:20260511
DTEND;VALUE=DATE:20260517
DTSTAMP:20260425T132304Z
UID:3rs5pg57ntr4uhe123nsh30vb9@google.com
CREATED:20260220T151801Z
LAST-MODIFIED:20260220T151802Z
SEQUENCE:0
STATUS:CONFIRMED
SUMMARY:SIV course tentative
TRANSP:TRANSPARENT
END:VEVENT
BEGIN:VEVENT
DTSTART;VALUE=DATE:20270104
DTEND;VALUE=DATE:20270110
DTSTAMP:20260425T132304Z
UID:1029g5badge5h6eviete62g1k5@google.com
CREATED:20260406T201117Z
LAST-MODIFIED:20260406T201117Z
SEQUENCE:0
STATUS:CONFIRMED
SUMMARY:SIV Clinics
TRANSP:TRANSPARENT
END:VEVENT
BEGIN:VEVENT
DTSTART;VALUE=DATE:20181116
DTEND;VALUE=DATE:20181120
DTSTAMP:20260425T132304Z
UID:7c9ld3d5kpekia7irofjl5phgm@google.com
X-GOOGLE-CONFERENCE:https://plus.google.com/hangouts/_/calendar/ajA5bmVtbjI
 3dnJmazVybmU5MzYxYmJqZHNAZ3JvdXAuY2FsZW5kYXIuZ29vZ2xlLmNvbQ.7c9ld3d5kpekia7
 irofjl5phgm
CREATED:20180227T031229Z
DESCRIPTION:Join with Google Hangouts: https://plus.google.com/hangouts/_/c
 alendar/ajA5bmVtbjI3dnJmazVybmU5MzYxYmJqZHNAZ3JvdXAuY2FsZW5kYXIuZ29vZ2xlLmN
 vbQ.7c9ld3d5kpekia7irofjl5phgm?hs=121
LAST-MODIFIED:20180929T030623Z
SEQUENCE:0
STATUS:CONFIRMED
SUMMARY:SIV Course - Full
TRANSP:TRANSPARENT
END:VEVENT
BEGIN:VEVENT
DTSTART;VALUE=DATE:20220403
DTEND;VALUE=DATE:20220410
DTSTAMP:20260425T132304Z
UID:4smg38hupoimhe9984ec70pi2v@google.com
CREATED:20211005T033041Z
LAST-MODIFIED:20220301T192658Z
SEQUENCE:0
STATUS:CONFIRMED
SUMMARY:SIV Course Ryan R.
TRANSP:TRANSPARENT
END:VEVENT
BEGIN:VEVENT
DTSTART;VALUE=DATE:20160505
DTEND;VALUE=DATE:20160509
DTSTAMP:20260425T132304Z
UID:bf0pn14jrekrmo54k8e0qrebb8@google.com
CREATED:20151221T022710Z
DESCRIPTION:Join with Google Hangouts: https://hangouts.google.com/hangouts
 /_/aprendeavolar.com.mx/yelapa?hceid=ajA5bmVtbjI3dnJmazVybmU5MzYxYmJqZHNAZ3
 JvdXAuY2FsZW5kYXIuZ29vZ2xlLmNvbQ.bf0pn14jrekrmo54k8e0qrebb8&hs=121
LAST-MODIFIED:20221209T051748Z
SEQUENCE:0
STATUS:CONFIRMED
SUMMARY:Yelapa
TRANSP:TRANSPARENT
END:VEVENT
BEGIN:VEVENT
DTSTART;VALUE=DATE:20240212
DTEND;VALUE=DATE:20240218
DTSTAMP:20260425T132304Z
UID:629tj8mfec4tisedduoehepumf@google.com
CREATED:20231013T040619Z
LAST-MODIFIED:20240118T043049Z
SEQUENCE:0
STATUS:CONFIRMED
SUMMARY:SIV Curso 1 spot left
TRANSP:TRANSPARENT
END:VEVENT
BEGIN:VEVENT
DTSTART;VALUE=DATE:20150612
DTEND;VALUE=DATE:20150615
DTSTAMP:20260425T132304Z
UID:mgq34h3tcshd89sh9lg67tjjvk@google.com
CREATED:20150217T202258Z
LAST-MODIFIED:20150324T050052Z
SEQUENCE:2
STATUS:CONFIRMED
SUMMARY:SIV Course - Yelapa
TRANSP:TRANSPARENT
END:VEVENT
BEGIN:VEVENT
DTSTART;VALUE=DATE:20150313
DTEND;VALUE=DATE:20150317
DTSTAMP:20260425T132304Z
UID:5i4fp4he337iuq0aqub6frr45k@google.com
CREATED:20140527T020439Z
LAST-MODIFIED:20150115T153204Z
LOCATION:Yelapa\, Mexico
SEQUENCE:3
STATUS:CONFIRMED
SUMMARY:P3 SIV Course Yelapa
TRANSP:TRANSPARENT
END:VEVENT
BEGIN:VEVENT
DTSTART;VALUE=DATE:20220123
DTEND;VALUE=DATE:20220130
DTSTAMP:20260425T132304Z
UID:6hgj8c1g74rjibb56so3ib9k6ksj2bb168om2b9pcor64cj46sojior66g@google.com
CREATED:20211012T193242Z
LAST-MODIFIED:20211119T123730Z
SEQUENCE:0
STATUS:CONFIRMED
SUMMARY:SIV course Yelapa
TRANSP:TRANSPARENT
END:VEVENT
BEGIN:VEVENT
DTSTART:20240521T020000Z
DTEND:20240526T030000Z
DTSTAMP:20260425T132304Z
UID:c4q68cb260s30b9pc8p38b9kc8rm6b9p6orj0b9ocosm2p1o6cr6ad9g68@google.com
CREATED:20240515T160616Z
LAST-MODIFIED:20240515T160616Z
SEQUENCE:0
STATUS:CONFIRMED
SUMMARY:SIV
TRANSP:OPAQUE
END:VEVENT
BEGIN:VEVENT
DTSTART;VALUE=DATE:20181109
DTEND;VALUE=DATE:20181113
DTSTAMP:20260425T132304Z
UID:3nos8cb58p9lcmd9tcgki43jas@google.com
CREATED:20180812T231553Z
LAST-MODIFIED:20180929T030614Z
SEQUENCE:0
STATUS:CONFIRMED
SUMMARY:Siv Course - Full
TRANSP:TRANSPARENT
END:VEVENT
BEGIN:VEVENT
DTSTART;VALUE=DATE:20180329
DTEND;VALUE=DATE:20180402
DTSTAMP:20260425T132304Z
UID:5m4t03t6equ5gge9lbsv430rnl@google.com
X-GOOGLE-CONFERENCE:https://plus.google.com/hangouts/_/calendar/ajA5bmVtbjI
 3dnJmazVybmU5MzYxYmJqZHNAZ3JvdXAuY2FsZW5kYXIuZ29vZ2xlLmNvbQ.5m4t03t6equ5gge
 9lbsv430rnl
CREATED:20170912T140912Z
DESCRIPTION:Join with Google Hangouts: https://plus.google.com/hangouts/_/c
 alendar/ajA5bmVtbjI3dnJmazVybmU5MzYxYmJqZHNAZ3JvdXAuY2FsZW5kYXIuZ29vZ2xlLmN
 vbQ.5m4t03t6equ5gge9lbsv430rnl?hs=121
LAST-MODIFIED:20171114T194141Z
SEQUENCE:1
STATUS:CONFIRMED
SUMMARY:SIV Course ENG - Yelapa
TRANSP:TRANSPARENT
END:VEVENT
BEGIN:VEVENT
DTSTART;VALUE=DATE:20190306
DTEND;VALUE=DATE:20190311
DTSTAMP:20260425T132304Z
UID:015g9h0m70f9qj5h5efdas69sp@google.com
CREATED:20181222T134057Z
LAST-MODIFIED:20221209T051754Z
SEQUENCE:0
STATUS:CONFIRMED
SUMMARY:SIV Course - No AVALIABILITY any more
TRANSP:TRANSPARENT
END:VEVENT
BEGIN:VEVENT
DTSTART;VALUE=DATE:20170317
DTEND;VALUE=DATE:20170321
DTSTAMP:20260425T132304Z
UID:2qe762eg3312i272okf5jluh48@google.com
X-GOOGLE-CONFERENCE:https://plus.google.com/hangouts/_/calendar/ajA5bmVtbjI
 3dnJmazVybmU5MzYxYmJqZHNAZ3JvdXAuY2FsZW5kYXIuZ29vZ2xlLmNvbQ.2qe762eg3312i27
 2okf5jluh48
CREATED:20161219T052018Z
DESCRIPTION:Join with Google Hangouts: https://plus.google.com/hangouts/_/c
 alendar/ajA5bmVtbjI3dnJmazVybmU5MzYxYmJqZHNAZ3JvdXAuY2FsZW5kYXIuZ29vZ2xlLmN
 vbQ.2qe762eg3312i272okf5jluh48?hs=121
LAST-MODIFIED:20170124T180639Z
LOCATION:Yelapa Beach\, Jalisco\, Mexico
SEQUENCE:2
STATUS:CONFIRMED
SUMMARY:SIV Yelapa
TRANSP:TRANSPARENT
END:VEVENT
BEGIN:VEVENT
DTSTART;VALUE=DATE:20220425
DTEND;VALUE=DATE:20220502
DTSTAMP:20260425T132304Z
UID:0hc9iqndqfang1i6amji377nn4@google.com
CREATED:20211215T000116Z
LAST-MODIFIED:20220113T142417Z
SEQUENCE:2
STATUS:CONFIRMED
SUMMARY:SIV Course Yelapa
TRANSP:TRANSPARENT
END:VEVENT
BEGIN:VEVENT
DTSTART;VALUE=DATE:20170323
DTEND;VALUE=DATE:20170328
DTSTAMP:20260425T132304Z
UID:lkdltcsufrd67jqdmcooog2i54@google.com
CREATED:20160604T013528Z
DESCRIPTION:Curso de maniobras. APPI SIV Course
LAST-MODIFIED:20221209T051742Z
LOCATION:Yelapa\, Jal.\, Mexico
SEQUENCE:1
STATUS:CONFIRMED
SUMMARY:SIV Yelapa
TRANSP:TRANSPARENT
END:VEVENT
BEGIN:VEVENT
DTSTART;VALUE=DATE:20231120
DTEND;VALUE=DATE:20231126
DTSTAMP:20260425T132304Z
UID:35fr5me8og5lgpjclr053hdf1e@google.com
CREATED:20230207T141808Z
LAST-MODIFIED:20230818T215021Z
LOCATION:Yelapa\, 48422 Yelapa\, Jalisco\, Mexico
SEQUENCE:0
STATUS:CONFIRMED
SUMMARY:SIV Course - FULL/CLOSED
TRANSP:TRANSPARENT
END:VEVENT
BEGIN:VEVENT
DTSTART;VALUE=DATE:20260203
DTEND;VALUE=DATE:20260209
DTSTAMP:20260425T132304Z
UID:23diaojvvna1otki6se03t424h@google.com
CREATED:20250819T110027Z
LAST-MODIFIED:20251014T013930Z
SEQUENCE:2
STATUS:CONFIRMED
SUMMARY:SIV Course Yelapa
TRANSP:TRANSPARENT
END:VEVENT
BEGIN:VEVENT
DTSTART;VALUE=DATE:20261117
DTEND;VALUE=DATE:20261123
DTSTAMP:20260425T132304Z
UID:493gdn35tr08f86ifovi4g0imj@google.com
CREATED:20260406T200834Z
LAST-MODIFIED:20260406T200834Z
SEQUENCE:0
STATUS:CONFIRMED
SUMMARY:SIV Clinics
TRANSP:TRANSPARENT
END:VEVENT
BEGIN:VEVENT
DTSTART;VALUE=DATE:20190411
DTEND;VALUE=DATE:20190415
DTSTAMP:20260425T132304Z
UID:7je6cc33nso8eg9019403br6s0@google.com
X-GOOGLE-CONFERENCE:https://hangouts.google.com/hangouts/_/calendar/ajA5bmV
 tbjI3dnJmazVybmU5MzYxYmJqZHNAZ3JvdXAuY2FsZW5kYXIuZ29vZ2xlLmNvbQ.7je6cc33nso
 8eg9019403br6s0
CREATED:20180604T191719Z
DESCRIPTION:Join with Google Hangouts: https://hangouts.google.com/hangouts
 /_/calendar/ajA5bmVtbjI3dnJmazVybmU5MzYxYmJqZHNAZ3JvdXAuY2FsZW5kYXIuZ29vZ2x
 lLmNvbQ.7je6cc33nso8eg9019403br6s0?hs=121
LAST-MODIFIED:20190220T211627Z
SEQUENCE:0
STATUS:CONFIRMED
SUMMARY:SIV Course Yelapa - no availability / full
TRANSP:TRANSPARENT
END:VEVENT
BEGIN:VEVENT
DTSTART;VALUE=DATE:20221205
DTEND;VALUE=DATE:20221211
DTSTAMP:20260425T132304Z
UID:75ijac1j70qm2bb46com2b9k6gojibb16sqjib9j60o3cdr16gom2phg64@google.com
CREATED:20220521T215048Z
LAST-MODIFIED:20220704T141109Z
SEQUENCE:0
STATUS:CONFIRMED
SUMMARY:SIV Yelapa -Private course
TRANSP:TRANSPARENT
END:VEVENT
BEGIN:VEVENT
DTSTART;VALUE=DATE:20180325
DTEND;VALUE=DATE:20180329
DTSTAMP:20260425T132304Z
UID:5cqrpcs6lqjfug8gsag3i777f1@google.com
X-GOOGLE-CONFERENCE:https://plus.google.com/hangouts/_/calendar/ajA5bmVtbjI
 3dnJmazVybmU5MzYxYmJqZHNAZ3JvdXAuY2FsZW5kYXIuZ29vZ2xlLmNvbQ.5cqrpcs6lqjfug8
 gsag3i777f1
CREATED:20180123T135930Z
DESCRIPTION:Join with Google Hangouts: https://plus.google.com/hangouts/_/c
 alendar/ajA5bmVtbjI3dnJmazVybmU5MzYxYmJqZHNAZ3JvdXAuY2FsZW5kYXIuZ29vZ2xlLmN
 vbQ.5cqrpcs6lqjfug8gsag3i777f1?hs=121
LAST-MODIFIED:20180219T022939Z
SEQUENCE:1
STATUS:CONFIRMED
SUMMARY:SIV Course ESP
TRANSP:TRANSPARENT
END:VEVENT
END:VCALENDAR
