BEGIN:VCALENDAR
PRODID:-//Google Inc//Google Calendar 70.9054//EN
VERSION:2.0
CALSCALE:GREGORIAN
METHOD:PUBLISH
X-WR-CALNAME:A4 - Cross Country Calendar
X-WR-TIMEZONE:America/Mexico_City
BEGIN:VEVENT
DTSTART;VALUE=DATE:20230115
DTEND;VALUE=DATE:20230121
DTSTAMP:20260425T132321Z
UID:5i06avbvh3mcir8k6m2kq5nhr3@google.com
CREATED:20220905T123014Z
LAST-MODIFIED:20220905T123024Z
SEQUENCE:0
STATUS:CONFIRMED
SUMMARY:XC Guiding - XC Course
TRANSP:TRANSPARENT
END:VEVENT
BEGIN:VEVENT
DTSTART;VALUE=DATE:20181229
DTEND;VALUE=DATE:20190106
DTSTAMP:20260425T132321Z
UID:345jrqs7vmoehd3iuqss1mlml2@google.com
CREATED:20180819T231942Z
LAST-MODIFIED:20180819T231958Z
SEQUENCE:0
STATUS:CONFIRMED
SUMMARY:XC Course / Guiding
TRANSP:TRANSPARENT
END:VEVENT
BEGIN:VEVENT
DTSTART;VALUE=DATE:20150105
DTEND;VALUE=DATE:20150111
DTSTAMP:20260425T132321Z
UID:97l101p5a8sishk1cceflnt6d4@google.com
CREATED:20140912T124935Z
LAST-MODIFIED:20141208T232835Z
SEQUENCE:1
STATUS:CONFIRMED
SUMMARY:Curso de competencias
TRANSP:TRANSPARENT
END:VEVENT
BEGIN:VEVENT
DTSTART;VALUE=DATE:20180805
DTEND;VALUE=DATE:20180811
DTSTAMP:20260425T132321Z
UID:0a43csejf4am3ut698g42i58j4@google.com
X-GOOGLE-CONFERENCE:https://hangouts.google.com/hangouts/_/calendar/amFpM2U
 zcWFyM21qMG1iN3MwODhqZGhsdWdAZ3JvdXAuY2FsZW5kYXIuZ29vZ2xlLmNvbQ.0a43csejf4a
 m3ut698g42i58j4
CREATED:20180522T012926Z
DESCRIPTION:Unirse con Google Hangouts: https://hangouts.google.com/hangout
 s/_/calendar/amFpM2UzcWFyM21qMG1iN3MwODhqZGhsdWdAZ3JvdXAuY2FsZW5kYXIuZ29vZ2
 xlLmNvbQ.0a43csejf4am3ut698g42i58j4?hs=121
LAST-MODIFIED:20180522T012926Z
SEQUENCE:0
STATUS:CONFIRMED
SUMMARY:Viaje XC a Colombia
TRANSP:TRANSPARENT
END:VEVENT
BEGIN:VEVENT
DTSTART;VALUE=DATE:20141227
DTEND;VALUE=DATE:20141231
DTSTAMP:20260425T132321Z
UID:0qteknb0v65qg60l5mhpjv46vg@google.com
CREATED:20141119T185958Z
LAST-MODIFIED:20141125T232508Z
LOCATION:Valle de Bravo\, State of Mexico\, Mexico
SEQUENCE:2
STATUS:CONFIRMED
SUMMARY:XC Course Valle de Bravo
TRANSP:TRANSPARENT
END:VEVENT
BEGIN:VEVENT
DTSTART;VALUE=DATE:20250120
DTEND;VALUE=DATE:20250127
DTSTAMP:20260425T132321Z
UID:60hlgpm6nnbru3s7098ki74nd0@google.com
CREATED:20240828T012146Z
LAST-MODIFIED:20240908T032918Z
SEQUENCE:1
STATUS:CONFIRMED
SUMMARY:Cross Country Clinics
TRANSP:TRANSPARENT
END:VEVENT
BEGIN:VEVENT
DTSTART;VALUE=DATE:20160103
DTEND;VALUE=DATE:20160111
DTSTAMP:20260425T132321Z
UID:ns8gurkmavvq0es8grdnkl6qh0@google.com
CREATED:20151027T041906Z
DESCRIPTION:Unirse con Google Hangouts: https://hangouts.google.com/hangout
 s/_/aprendeavolar.com.mx/curso-de?hceid=amFpM2UzcWFyM21qMG1iN3MwODhqZGhsdWd
 AZ3JvdXAuY2FsZW5kYXIuZ29vZ2xlLmNvbQ.ns8gurkmavvq0es8grdnkl6qh0&hs=121
LAST-MODIFIED:20151027T041930Z
LOCATION:Valle de Bravo
SEQUENCE:1
STATUS:CONFIRMED
SUMMARY:Curso de Competencia FAI
TRANSP:TRANSPARENT
END:VEVENT
BEGIN:VEVENT
DTSTART;VALUE=DATE:20170729
DTEND;VALUE=DATE:20170806
DTSTAMP:20260425T132321Z
UID:8nv9bgm9nsdk8ghc66nbdmc01g@google.com
X-GOOGLE-CONFERENCE:https://plus.google.com/hangouts/_/calendar/amFpM2UzcWF
 yM21qMG1iN3MwODhqZGhsdWdAZ3JvdXAuY2FsZW5kYXIuZ29vZ2xlLmNvbQ.8nv9bgm9nsdk8gh
 c66nbdmc01g
CREATED:20170505T003613Z
DESCRIPTION:Unirse con Google Hangouts: https://plus.google.com/hangouts/_/
 calendar/amFpM2UzcWFyM21qMG1iN3MwODhqZGhsdWdAZ3JvdXAuY2FsZW5kYXIuZ29vZ2xlLm
 NvbQ.8nv9bgm9nsdk8ghc66nbdmc01g?hs=121
LAST-MODIFIED:20170505T003613Z
SEQUENCE:0
STATUS:CONFIRMED
SUMMARY:XC Tour Colombia - Cali
TRANSP:TRANSPARENT
END:VEVENT
BEGIN:VEVENT
DTSTART;VALUE=DATE:20151227
DTEND;VALUE=DATE:20151231
DTSTAMP:20260425T132321Z
UID:jedqnvofmfmsp92t26l7b36vk4@google.com
CREATED:20150610T180500Z
LAST-MODIFIED:20230105T140733Z
LOCATION:Valle de Bravo\, Méx.\, Mexico
SEQUENCE:2
STATUS:CONFIRMED
SUMMARY:Curso de Cross XC
TRANSP:OPAQUE
END:VEVENT
BEGIN:VEVENT
DTSTART;VALUE=DATE:20190101
DTEND;VALUE=DATE:20190106
DTSTAMP:20260425T132321Z
UID:50ern6899lnr3dk4i20mia7ps8@google.com
X-GOOGLE-CONFERENCE:https://hangouts.google.com/hangouts/_/calendar/amFpM2U
 zcWFyM21qMG1iN3MwODhqZGhsdWdAZ3JvdXAuY2FsZW5kYXIuZ29vZ2xlLmNvbQ.50ern6899ln
 r3dk4i20mia7ps8
CREATED:20180604T191504Z
DESCRIPTION:Unirse con Google Hangouts: https://hangouts.google.com/hangout
 s/_/calendar/amFpM2UzcWFyM21qMG1iN3MwODhqZGhsdWdAZ3JvdXAuY2FsZW5kYXIuZ29vZ2
 xlLmNvbQ.50ern6899lnr3dk4i20mia7ps8?hs=121
LAST-MODIFIED:20180604T191504Z
SEQUENCE:0
STATUS:CONFIRMED
SUMMARY:XC Course Valle de Bravo
TRANSP:TRANSPARENT
END:VEVENT
BEGIN:VEVENT
DTSTART;VALUE=DATE:20191226
DTEND;VALUE=DATE:20200104
DTSTAMP:20260425T132321Z
UID:41bsnacn3oadeogrbbuos3t3j6@google.com
CREATED:20190416T201747Z
LAST-MODIFIED:20190416T201747Z
SEQUENCE:0
STATUS:CONFIRMED
SUMMARY:Curso XC / Thermaling 
TRANSP:TRANSPARENT
END:VEVENT
BEGIN:VEVENT
DTSTART;VALUE=DATE:20180121
DTEND;VALUE=DATE:20180127
DTSTAMP:20260425T132321Z
UID:1bq1g4p1r4us83c1uahjm3m5qu@google.com
CREATED:20170927T133228Z
LAST-MODIFIED:20170927T133255Z
LOCATION:Valle de Bravo\, State of Mexico\, Mexico
SEQUENCE:0
STATUS:CONFIRMED
SUMMARY:XC Performance course
TRANSP:TRANSPARENT
END:VEVENT
BEGIN:VEVENT
DTSTART;VALUE=DATE:20161226
DTEND;VALUE=DATE:20161231
DTSTAMP:20260425T132321Z
UID:hur893i4to1ib7rf78sibo0o78@google.com
CREATED:20160603T070805Z
LAST-MODIFIED:20230105T140732Z
SEQUENCE:0
STATUS:CONFIRMED
SUMMARY:XC Course
TRANSP:TRANSPARENT
END:VEVENT
BEGIN:VEVENT
DTSTART;VALUE=DATE:20170109
DTEND;VALUE=DATE:20170114
DTSTAMP:20260425T132321Z
UID:64dkurvcgj4bupsgcpdmdui25k@google.com
CREATED:20160603T070906Z
LAST-MODIFIED:20160805T130412Z
SEQUENCE:3
STATUS:CONFIRMED
SUMMARY:Performance course
TRANSP:TRANSPARENT
END:VEVENT
BEGIN:VEVENT
DTSTART;VALUE=DATE:20170124
DTEND;VALUE=DATE:20170128
DTSTAMP:20260425T132321Z
UID:6fktkksvcl17gc35359l5vmac4@google.com
CREATED:20160603T072945Z
LAST-MODIFIED:20170120T014906Z
SEQUENCE:4
STATUS:CONFIRMED
SUMMARY:Advanced Pilot Course 
TRANSP:TRANSPARENT
END:VEVENT
BEGIN:VEVENT
DTSTART;VALUE=DATE:20160730
DTEND;VALUE=DATE:20160801
DTSTAMP:20260425T132321Z
UID:ic90c01mkjmvg42ri22vj4koe8@google.com
CREATED:20160603T072015Z
LAST-MODIFIED:20160616T181056Z
SEQUENCE:1
STATUS:CONFIRMED
SUMMARY:XC Course
TRANSP:TRANSPARENT
END:VEVENT
BEGIN:VEVENT
DTSTART;VALUE=DATE:20180218
DTEND;VALUE=DATE:20180225
DTSTAMP:20260425T132321Z
UID:6ohdn3jc49dh4cu1aonooedi1b@google.com
X-GOOGLE-CONFERENCE:https://plus.google.com/hangouts/_/calendar/amFpM2UzcWF
 yM21qMG1iN3MwODhqZGhsdWdAZ3JvdXAuY2FsZW5kYXIuZ29vZ2xlLmNvbQ.6ohdn3jc49dh4cu
 1aonooedi1b
CREATED:20170815T144453Z
DESCRIPTION:Unirse con Google Hangouts: https://plus.google.com/hangouts/_/
 calendar/amFpM2UzcWFyM21qMG1iN3MwODhqZGhsdWdAZ3JvdXAuY2FsZW5kYXIuZ29vZ2xlLm
 NvbQ.6ohdn3jc49dh4cu1aonooedi1b?hs=121
LAST-MODIFIED:20170815T145623Z
SEQUENCE:1
STATUS:CONFIRMED
SUMMARY:XC Course Colombia
TRANSP:TRANSPARENT
END:VEVENT
BEGIN:VEVENT
DTSTART;VALUE=DATE:20181207
DTEND;VALUE=DATE:20181210
DTSTAMP:20260425T132321Z
UID:49l059c5tlvqt7ll7kfdcqa4eu@google.com
CREATED:20181108T002021Z
LAST-MODIFIED:20181108T002023Z
SEQUENCE:1
STATUS:CONFIRMED
SUMMARY:XC Clinics Valle de Bravo Part2
TRANSP:TRANSPARENT
END:VEVENT
BEGIN:VEVENT
DTSTART;VALUE=DATE:20150318
DTEND;VALUE=DATE:20150323
DTSTAMP:20260425T132321Z
UID:nv67t464d5vtjlmtpoqq721ve0@google.com
CREATED:20140527T023724Z
LAST-MODIFIED:20141125T232143Z
LOCATION:Tuxpan\, Guerrero
SEQUENCE:1
STATUS:CONFIRMED
SUMMARY:XC Course
TRANSP:TRANSPARENT
END:VEVENT
BEGIN:VEVENT
DTSTART;VALUE=DATE:20150112
DTEND;VALUE=DATE:20150118
DTSTAMP:20260425T132321Z
UID:fl4qge5bg10cq6marur9ipvre8@google.com
CREATED:20140912T125020Z
LAST-MODIFIED:20140912T125020Z
SEQUENCE:0
STATUS:CONFIRMED
SUMMARY:Curso de XC Valle de Bravo
TRANSP:TRANSPARENT
END:VEVENT
BEGIN:VEVENT
DTSTART;VALUE=DATE:20230806
DTEND;VALUE=DATE:20230813
DTSTAMP:20260425T132321Z
UID:309ve9n54bsi5s0pit642emefc@google.com
CREATED:20230525T133104Z
LAST-MODIFIED:20230525T133104Z
SEQUENCE:0
STATUS:CONFIRMED
SUMMARY:XC Trip to Colombia
TRANSP:TRANSPARENT
END:VEVENT
BEGIN:VEVENT
DTSTART;VALUE=DATE:20160806
DTEND;VALUE=DATE:20160808
DTSTAMP:20260425T132321Z
UID:ooluobjib2bhl3hcvvqfn765dk@google.com
CREATED:20160616T181135Z
LAST-MODIFIED:20160616T181135Z
SEQUENCE:0
STATUS:CONFIRMED
SUMMARY:Croatia
TRANSP:TRANSPARENT
END:VEVENT
BEGIN:VEVENT
DTSTART;VALUE=DATE:20170214
DTEND;VALUE=DATE:20170221
DTSTAMP:20260425T132321Z
UID:h5u9csh2btgn8kict2apu9pns0@google.com
X-GOOGLE-CONFERENCE:https://plus.google.com/hangouts/_/calendar/amFpM2UzcWF
 yM21qMG1iN3MwODhqZGhsdWdAZ3JvdXAuY2FsZW5kYXIuZ29vZ2xlLmNvbQ.h5u9csh2btgn8ki
 ct2apu9pns0
CREATED:20161201T031402Z
DESCRIPTION:Unirse con Google Hangouts: https://plus.google.com/hangouts/_/
 calendar/amFpM2UzcWFyM21qMG1iN3MwODhqZGhsdWdAZ3JvdXAuY2FsZW5kYXIuZ29vZ2xlLm
 NvbQ.h5u9csh2btgn8kict2apu9pns0?hs=121
LAST-MODIFIED:20170126T030449Z
SEQUENCE:1
STATUS:CONFIRMED
SUMMARY:Performance XC - Course
TRANSP:TRANSPARENT
END:VEVENT
BEGIN:VEVENT
DTSTART;VALUE=DATE:20171226
DTEND;VALUE=DATE:20171231
DTSTAMP:20260425T132321Z
UID:7tr3roh2nq6946id2vreneif08@google.com
X-GOOGLE-CONFERENCE:https://plus.google.com/hangouts/_/calendar/amFpM2UzcWF
 yM21qMG1iN3MwODhqZGhsdWdAZ3JvdXAuY2FsZW5kYXIuZ29vZ2xlLmNvbQ.7tr3roh2nq6946i
 d2vreneif08
CREATED:20170419T031050Z
DESCRIPTION:Unirse con Google Hangouts: https://plus.google.com/hangouts/_/
 calendar/amFpM2UzcWFyM21qMG1iN3MwODhqZGhsdWdAZ3JvdXAuY2FsZW5kYXIuZ29vZ2xlLm
 NvbQ.7tr3roh2nq6946id2vreneif08?hs=121
LAST-MODIFIED:20170419T031050Z
SEQUENCE:0
STATUS:CONFIRMED
SUMMARY:Curso de XC - ESP - Valle de Bravo
TRANSP:TRANSPARENT
END:VEVENT
BEGIN:VEVENT
DTSTART;VALUE=DATE:20181130
DTEND;VALUE=DATE:20181203
DTSTAMP:20260425T132321Z
UID:67urducumt8u08d510hbh1n4e9@google.com
CREATED:20181013T032200Z
LAST-MODIFIED:20181108T002032Z
SEQUENCE:3
STATUS:CONFIRMED
SUMMARY:XC Clinics Valle de Bravo Part1
TRANSP:TRANSPARENT
END:VEVENT
BEGIN:VEVENT
DTSTART;VALUE=DATE:20231226
DTEND;VALUE=DATE:20240101
DTSTAMP:20260425T132321Z
UID:37n7co4puslk3mnu6hai06t0u6@google.com
CREATED:20231003T041136Z
LAST-MODIFIED:20231003T041136Z
SEQUENCE:0
STATUS:CONFIRMED
SUMMARY:XC Course 
TRANSP:TRANSPARENT
END:VEVENT
END:VCALENDAR
