BEGIN:VCALENDAR
PRODID:-//Google Inc//Google Calendar 70.9054//EN
VERSION:2.0
CALSCALE:GREGORIAN
METHOD:PUBLISH
X-WR-CALNAME:A3 - Curso de Termales / Thermaling Courses
X-WR-TIMEZONE:America/Mexico_City
BEGIN:VEVENT
DTSTART;VALUE=DATE:20151219
DTEND;VALUE=DATE:20151223
DTSTAMP:20260425T132319Z
UID:pqur03vsvslokn52lllvq67hls@google.com
CREATED:20151027T021624Z
DESCRIPTION:Un curso de termales con unos XC.\n\n\nJoin with Google Hangout
 s: https://hangouts.google.com/hangouts/_/aprendeavolar.com.mx/curso-de?hce
 id=MmxqM2psamVnYmMxb2VscGd2ZG00cDNqcnNAZ3JvdXAuY2FsZW5kYXIuZ29vZ2xlLmNvbQ.p
 qur03vsvslokn52lllvq67hls&hs=121
LAST-MODIFIED:20230201T014544Z
LOCATION:Valle de Bravo\, Méx.\, Mexico
SEQUENCE:4
STATUS:CONFIRMED
SUMMARY:Curso de termales
TRANSP:TRANSPARENT
END:VEVENT
BEGIN:VEVENT
DTSTART;VALUE=DATE:20241125
DTEND;VALUE=DATE:20241201
DTSTAMP:20260425T132319Z
UID:5olp9q0dtdhe6c9kk5if8ishk3@google.com
CREATED:20240924T014649Z
LAST-MODIFIED:20240924T014649Z
SEQUENCE:0
STATUS:CONFIRMED
SUMMARY:Thermaling clinics and guiding
TRANSP:TRANSPARENT
END:VEVENT
BEGIN:VEVENT
DTSTART;VALUE=DATE:20250303
DTEND;VALUE=DATE:20250304
DTSTAMP:20260425T132319Z
UID:chj68d9o6dhmabb16cs32b9k6gsjcb9p6phjcb9m6hh36p9n64om6p1p6s@google.com
CREATED:20250303T054546Z
LAST-MODIFIED:20250303T054547Z
SEQUENCE:0
STATUS:CONFIRMED
SUMMARY:Libre kevin
TRANSP:TRANSPARENT
END:VEVENT
BEGIN:VEVENT
DTSTART;VALUE=DATE:20231209
DTEND;VALUE=DATE:20231218
DTSTAMP:20260425T132319Z
UID:6pmv37hi16o72m4c0qaao28f7s@google.com
CREATED:20230817T010408Z
LAST-MODIFIED:20230817T010417Z
SEQUENCE:0
STATUS:CONFIRMED
SUMMARY:A3 Thermaling course
TRANSP:TRANSPARENT
END:VEVENT
BEGIN:VEVENT
DTSTART;VALUE=DATE:20241005
DTEND;VALUE=DATE:20241014
DTSTAMP:20260425T132319Z
UID:6g5tf49hnaetn7tirmmov3grbp@google.com
CREATED:20240531T152407Z
LAST-MODIFIED:20240531T152407Z
SEQUENCE:0
STATUS:CONFIRMED
SUMMARY:A3 course
TRANSP:TRANSPARENT
END:VEVENT
BEGIN:VEVENT
DTSTART;VALUE=DATE:20250305
DTEND;VALUE=DATE:20250306
DTSTAMP:20260425T132319Z
UID:6tj34o9l70rjcb9k60p38b9kckqj6bb26kom4bb16ti3ipj26csjgphmc8@google.com
CREATED:20250303T054721Z
LAST-MODIFIED:20250303T054721Z
SEQUENCE:0
STATUS:CONFIRMED
SUMMARY:Libre kevin
TRANSP:TRANSPARENT
END:VEVENT
BEGIN:VEVENT
DTSTART;VALUE=DATE:20250218
DTEND;VALUE=DATE:20250219
DTSTAMP:20260425T132319Z
UID:c9j64c33c4omabb66dgmcb9kc4sj4b9o6opjab9jc5gm2o9n6lj66cb1cc@google.com
CREATED:20250212T030634Z
LAST-MODIFIED:20250212T030653Z
SEQUENCE:0
STATUS:CONFIRMED
SUMMARY:Pagar NU
TRANSP:TRANSPARENT
END:VEVENT
BEGIN:VEVENT
DTSTART;VALUE=DATE:20131205
DTEND;VALUE=DATE:20131209
DTSTAMP:20260425T132319Z
UID:lh2qhvhpdk87d8spkibvls0bjo@google.com
CREATED:20131113T055709Z
LAST-MODIFIED:20230201T014545Z
SEQUENCE:0
STATUS:CONFIRMED
SUMMARY:Curso de Termales Valle de Bravo
TRANSP:TRANSPARENT
END:VEVENT
BEGIN:VEVENT
DTSTART;VALUE=DATE:20250304
DTEND;VALUE=DATE:20250305
DTSTAMP:20260425T132319Z
UID:clj32pho6go36bb675j3eb9k6gp3gbb275j66b9gc4pjgphn74oj0e1pck@google.com
CREATED:20250303T054655Z
LAST-MODIFIED:20250303T054655Z
SEQUENCE:0
STATUS:CONFIRMED
SUMMARY:Kevin am y pm
TRANSP:TRANSPARENT
END:VEVENT
BEGIN:VEVENT
DTSTART;VALUE=DATE:20190127
DTEND;VALUE=DATE:20190202
DTSTAMP:20260425T132319Z
UID:0e07p0i8tp9nj82bipn42okjuk@google.com
CREATED:20181122T160607Z
LAST-MODIFIED:20181122T160607Z
SEQUENCE:0
STATUS:CONFIRMED
SUMMARY:Thermaling
TRANSP:TRANSPARENT
END:VEVENT
BEGIN:VEVENT
DTSTART;VALUE=DATE:20141120
DTEND;VALUE=DATE:20141124
DTSTAMP:20260425T132319Z
UID:ao8ol11br3him7l8edmk87onas@google.com
CREATED:20140527T020318Z
LAST-MODIFIED:20141024T131921Z
SEQUENCE:1
STATUS:CONFIRMED
SUMMARY:P3 Curso de termales / XC
TRANSP:TRANSPARENT
END:VEVENT
BEGIN:VEVENT
DTSTART;VALUE=DATE:20151015
DTEND;VALUE=DATE:20151019
DTSTAMP:20260425T132319Z
UID:qk0fj6qgvp94tit9qdfke98s4g@google.com
CREATED:20150515T152251Z
LAST-MODIFIED:20150921T152056Z
SEQUENCE:1
STATUS:CONFIRMED
SUMMARY:Curso de Termales
TRANSP:OPAQUE
END:VEVENT
BEGIN:VEVENT
DTSTART;VALUE=DATE:20250302
DTEND;VALUE=DATE:20250303
DTSTAMP:20260425T132319Z
UID:74s66ob6cgs3cb9l6gr3cb9kc8r64bb26ooj8b9h60oj4c346cr3gc9n68@google.com
CREATED:20250303T054825Z
LAST-MODIFIED:20250303T054825Z
SEQUENCE:0
STATUS:CONFIRMED
SUMMARY:Kevin am y pm
TRANSP:TRANSPARENT
END:VEVENT
BEGIN:VEVENT
DTSTART;VALUE=DATE:20191125
DTEND;VALUE=DATE:20191202
DTSTAMP:20260425T132319Z
UID:1f1srjdf5reojhcuo4aor54nnp@google.com
CREATED:20190416T201824Z
LAST-MODIFIED:20230201T014541Z
SEQUENCE:0
STATUS:CONFIRMED
SUMMARY:Thermaling course 
TRANSP:TRANSPARENT
END:VEVENT
BEGIN:VEVENT
DTSTART;VALUE=DATE:20250306
DTEND;VALUE=DATE:20250307
DTSTAMP:20260425T132319Z
UID:70q32e9jcks34b9h75hjgb9kcko32b9p6os6cb9kcko38dpm6th3edj668@google.com
CREATED:20250303T054749Z
LAST-MODIFIED:20250303T054749Z
SEQUENCE:0
STATUS:CONFIRMED
SUMMARY:Kevin am
TRANSP:TRANSPARENT
END:VEVENT
BEGIN:VEVENT
DTSTART;VALUE=DATE:20250624
DTEND;VALUE=DATE:20250625
DTSTAMP:20260425T132319Z
UID:c5ij0phjckpj2b9m6or6cb9k6ksjgb9oc4qm2b9i6lh30or16gsjgpb6cg@google.com
CREATED:20250330T050844Z
LAST-MODIFIED:20250330T050844Z
SEQUENCE:0
STATUS:CONFIRMED
SUMMARY:Cumple Daniel R
TRANSP:TRANSPARENT
END:VEVENT
BEGIN:VEVENT
DTSTART;VALUE=DATE:20130323
DTEND;VALUE=DATE:20130401
DTSTAMP:20260425T132319Z
UID:3gdeefii8e4tm4eqlgugrepefc@google.com
CREATED:20121024T045902Z
LAST-MODIFIED:20260411T065711Z
LOCATION:Iguala de La Indepedencia
SEQUENCE:0
STATUS:CONFIRMED
SUMMARY:Curso P3
TRANSP:TRANSPARENT
END:VEVENT
BEGIN:VEVENT
DTSTART;VALUE=DATE:20191019
DTEND;VALUE=DATE:20191025
DTSTAMP:20260425T132319Z
UID:57t84ls0rd9ual9pbj4pai7tb8@google.com
CREATED:20190812T132707Z
LAST-MODIFIED:20190825T120854Z
SEQUENCE:1
STATUS:CONFIRMED
SUMMARY:Thermaling course
TRANSP:TRANSPARENT
END:VEVENT
BEGIN:VEVENT
DTSTART;VALUE=DATE:20131115
DTEND;VALUE=DATE:20131119
DTSTAMP:20260425T132319Z
UID:td1lq1k28hqokdhg1ki31i8b3s@google.com
CREATED:20130514T005625Z
LAST-MODIFIED:20230201T014538Z
LOCATION:Valle de Bravo
SEQUENCE:2
STATUS:CONFIRMED
SUMMARY:Curso de termales Valle de Bravo
TRANSP:TRANSPARENT
END:VEVENT
BEGIN:VEVENT
DTSTART;VALUE=DATE:20140314
DTEND;VALUE=DATE:20140318
DTSTAMP:20260425T132319Z
UID:7c4sktcu0kj14uodmjo3s2g5ok@google.com
CREATED:20140107T222420Z
LAST-MODIFIED:20140107T222420Z
SEQUENCE:0
STATUS:CONFIRMED
SUMMARY:Curso de CrossCountry
TRANSP:TRANSPARENT
END:VEVENT
BEGIN:VEVENT
DTSTART:20250112T143000Z
DTEND:20250112T153000Z
DTSTAMP:20260425T132319Z
UID:c4pjcdj6clhj6b9i6hij0b9k65gjeb9p6thj0bb2cooj8dpo6cs32p35c4@google.com
CREATED:20250330T051108Z
LAST-MODIFIED:20250330T051108Z
SEQUENCE:0
STATUS:CONFIRMED
SUMMARY:Cumple María R
TRANSP:OPAQUE
END:VEVENT
BEGIN:VEVENT
DTSTART;VALUE=DATE:20250212
DTEND;VALUE=DATE:20250213
DTSTAMP:20260425T132319Z
UID:6oqjco9icor3eb9i65ij6b9k6oqjgbb261j3gb9h6tj68p9l70pm6dhh6g@google.com
CREATED:20250330T051126Z
LAST-MODIFIED:20250330T051126Z
SEQUENCE:0
STATUS:CONFIRMED
SUMMARY:Cumple Luz
TRANSP:TRANSPARENT
END:VEVENT
BEGIN:VEVENT
DTSTART;VALUE=DATE:20240622
DTEND;VALUE=DATE:20240629
DTSTAMP:20260425T132319Z
UID:701mu7gm88rlhh3v9ofllfcto1@google.com
CREATED:20240325T150916Z
LAST-MODIFIED:20240425T180744Z
SEQUENCE:2
STATUS:CONFIRMED
SUMMARY:A3 Thermaling course
TRANSP:TRANSPARENT
END:VEVENT
BEGIN:VEVENT
DTSTART;VALUE=DATE:20151105
DTEND;VALUE=DATE:20151109
DTSTAMP:20260425T132319Z
UID:br0f2k3bmc44dddc7k8qfc6l6o@google.com
CREATED:20150610T184415Z
LAST-MODIFIED:20151005T185047Z
SEQUENCE:3
STATUS:CONFIRMED
SUMMARY:XC/Termales Open
TRANSP:OPAQUE
END:VEVENT
BEGIN:VEVENT
DTSTART;VALUE=DATE:20250226
DTEND;VALUE=DATE:20250302
DTSTAMP:20260425T132319Z
UID:copj6dhp6hhj0b9h6cq64b9k69gjcbb1ckp64b9p75j3cp1g68q6cdhlco@google.com
CREATED:20250223T041805Z
LAST-MODIFIED:20250223T041805Z
SEQUENCE:0
STATUS:CONFIRMED
SUMMARY:Alumno xc
TRANSP:TRANSPARENT
END:VEVENT
BEGIN:VEVENT
DTSTART;VALUE=DATE:20251123
DTEND;VALUE=DATE:20251124
DTSTAMP:20260425T132319Z
UID:6ko30cr26orj4bb474r62b9k61hmcbb2ckpj6b9iclgm4cj160qm2d9n6g@google.com
CREATED:20250330T050751Z
LAST-MODIFIED:20250330T050751Z
SEQUENCE:0
STATUS:CONFIRMED
SUMMARY:Cumple sebas
TRANSP:TRANSPARENT
END:VEVENT
BEGIN:VEVENT
DTSTART;VALUE=DATE:20241022
DTEND;VALUE=DATE:20241031
DTSTAMP:20260425T132319Z
UID:6m6ors0ocp04d7linb1qrgptqv@google.com
CREATED:20240831T230103Z
LAST-MODIFIED:20240831T230103Z
SEQUENCE:0
STATUS:CONFIRMED
SUMMARY:A3 Thermaling and piloting course
TRANSP:TRANSPARENT
END:VEVENT
BEGIN:VEVENT
DTSTART;VALUE=DATE:20250713
DTEND;VALUE=DATE:20250714
DTSTAMP:20260425T132319Z
UID:clh64opp71hj0bb3cco3ab9k6cs6ab9o6oo38b9p70r3ge1pcgp3adj4c8@google.com
CREATED:20250330T050820Z
LAST-MODIFIED:20250330T050820Z
SEQUENCE:0
STATUS:CONFIRMED
SUMMARY:Cumple Marko
TRANSP:TRANSPARENT
END:VEVENT
END:VCALENDAR
