BEGIN:VCALENDAR
PRODID:-//Google Inc//Google Calendar 70.9054//EN
VERSION:2.0
CALSCALE:GREGORIAN
METHOD:PUBLISH
X-WR-CALNAME:Cursos Tándem
X-WR-TIMEZONE:America/Mexico_City
BEGIN:VEVENT
DTSTART;VALUE=DATE:20140107
DTEND;VALUE=DATE:20140115
DTSTAMP:20260425T132319Z
UID:gnoba6mbekrh7pl7ksrtj9th54@google.com
CREATED:20131212T003942Z
LAST-MODIFIED:20131212T003942Z
SEQUENCE:0
STATUS:CONFIRMED
SUMMARY:Curso de tándem Valle de Bravo
TRANSP:TRANSPARENT
END:VEVENT
BEGIN:VEVENT
DTSTART;VALUE=DATE:20240715
DTEND;VALUE=DATE:20240722
DTSTAMP:20260425T132319Z
UID:5p4gl6tg1ojisnpletieu2s238@google.com
CREATED:20240519T021032Z
LAST-MODIFIED:20240519T021032Z
SEQUENCE:0
STATUS:CONFIRMED
SUMMARY:Tandem course
TRANSP:TRANSPARENT
END:VEVENT
BEGIN:VEVENT
DTSTART;VALUE=DATE:20241207
DTEND;VALUE=DATE:20241211
DTSTAMP:20260425T132319Z
UID:1bk4kmbdnt511ncd209o7di9r4@google.com
CREATED:20241112T030057Z
LAST-MODIFIED:20241112T030057Z
SEQUENCE:0
STATUS:CONFIRMED
SUMMARY:Tandem Gab and Sahil
TRANSP:TRANSPARENT
END:VEVENT
BEGIN:VEVENT
DTSTART;VALUE=DATE:20150406
DTEND;VALUE=DATE:20150410
DTSTAMP:20260425T132319Z
UID:h5odevlpce63i0o5coia93qlqk@google.com
CREATED:20150217T202133Z
LAST-MODIFIED:20150324T050310Z
SEQUENCE:2
STATUS:CONFIRMED
SUMMARY:Curso de tandem
TRANSP:TRANSPARENT
END:VEVENT
BEGIN:VEVENT
DTSTART;VALUE=DATE:20161019
DTEND;VALUE=DATE:20161022
DTSTAMP:20260425T132319Z
UID:i0rm8b3lt4rl8pdvh08i0s1fm8@google.com
CREATED:20160603T071210Z
LAST-MODIFIED:20160912T202203Z
SEQUENCE:2
STATUS:CONFIRMED
SUMMARY:Pre Workshop Course
TRANSP:TRANSPARENT
END:VEVENT
BEGIN:VEVENT
DTSTART;VALUE=DATE:20161130
DTEND;VALUE=DATE:20161205
DTSTAMP:20260425T132319Z
UID:m6ogb05fq7j2bi16aae8e4qfkg@google.com
CREATED:20160604T015949Z
LAST-MODIFIED:20160805T130233Z
SEQUENCE:1
STATUS:CONFIRMED
SUMMARY:Tandem course
TRANSP:TRANSPARENT
END:VEVENT
END:VCALENDAR
