BEGIN:VCALENDAR
PRODID:-//Google Inc//Google Calendar 70.9054//EN
VERSION:2.0
CALSCALE:GREGORIAN
METHOD:PUBLISH
X-WR-CALNAME:Tours: Europe\, Mexico\, Latin America
X-WR-TIMEZONE:America/Mexico_City
BEGIN:VEVENT
DTSTART;VALUE=DATE:20150808
DTEND;VALUE=DATE:20150823
DTSTAMP:20260425T145946Z
UID:79h3uq33qv9fovklltt0qk3shc@google.com
CREATED:20150217T202522Z
LAST-MODIFIED:20150217T210328Z
SEQUENCE:2
STATUS:CONFIRMED
SUMMARY:Tour Los Alpes y Croacia
TRANSP:TRANSPARENT
END:VEVENT
BEGIN:VEVENT
DTSTART:20151113T080000Z
DTEND:20151116T090000Z
DTSTAMP:20260425T145946Z
UID:7bcep40sb8buemdjr058059n0o@google.com
CREATED:20150610T184151Z
LAST-MODIFIED:20150610T184151Z
SEQUENCE:0
STATUS:CONFIRMED
SUMMARY:Fly OAX Viaje
TRANSP:OPAQUE
END:VEVENT
BEGIN:VEVENT
DTSTART;VALUE=DATE:20140809
DTEND;VALUE=DATE:20140824
DTSTAMP:20260425T145946Z
UID:omgb8cialeo3efcqprqcpmgtsk@google.com
CREATED:20131218T035424Z
LAST-MODIFIED:20140115T001930Z
SEQUENCE:1
STATUS:CONFIRMED
SUMMARY:Tour Slovenia - Croatia
TRANSP:TRANSPARENT
END:VEVENT
BEGIN:VEVENT
DTSTART;VALUE=DATE:20150119
DTEND;VALUE=DATE:20150202
DTSTAMP:20260425T145946Z
UID:ii5sptgr869tl3fa111158kpkk@google.com
CREATED:20140912T123907Z
DESCRIPTION:<p>Guided paragliding tour for PG pilots from USA and Europe</p
 >
LAST-MODIFIED:20141208T204131Z
LOCATION:Valle de Bravo\, Mexico 
SEQUENCE:3
STATUS:CONFIRMED
SUMMARY:Tour Mexico - provisional
TRANSP:TRANSPARENT
END:VEVENT
END:VCALENDAR
